{"text_format":"3","workbook":"xlsx","n_sheets":4,"sheets":["Лист4","Лист1","Лист2","Лист3"],"not_rendered":{"external_links":2},"read":"whole","date_system":"1900"}

{"sheet":"Лист4","index":0,"n_rows":0,"n_cols":0,"rows_kept":0}

{"sheet":"Лист1","index":1,"n_rows":263,"n_cols":6,"rows_kept":263,"merged":[[7,0,8,4],[9,0,9,4],[10,1,10,4],[11,1,11,4],[12,1,12,4],[13,1,13,4],[14,1,14,4],[15,1,15,4],[16,1,16,4],[19,0,19,4],[25,0,25,4],[45,0,45,4]]}
[]
[null,"Решениеи",null,null,"Утверждаю Директор Песчано-Ковалинской СОШ"]
[null,"Педагогического совета",null,null,"    _________Н.Б. Мингазова"]
[null,"№ 1 от _____________",null,null,"Прказ №        от _______________"]
[]
[]
[]
["Список учебников на 2018-2019  учебный год"]
[]
[]
[]
[null,"На основании Федерального перечня учебников, рекомендуемых к использованию при реализации "]
[null,"имеющих государственную аккредитацию образовательных программ начального общего, основного "]
[null,"общего, среднего общего образования утвержденного приказом МО и Н РФ от 31 марта 2014 г.  № 253 "]
[null,"с изменениями на 26 января 2016 года. Документ с изменениями, внесенными:"]
[null,"приказом Минобрнауки России от 8 июня 2015 года N 576.\nприказом Минобрнауки России от 28 декабря 2015 года N 1529;\nприказом Минобрнауки России от 26 января 2016 года N 38;\nприказом Минобрнауки России от 21 апреля 2016 года N 459;\nприказом Минобрнауки России от 29 декабря 2016 года N 1677;\nприказом Минобрнауки России от 8 июня 2017 года N 535;\nприказом Минобрнауки России от 20 июня 2017 года N 581;\nприказом Минобрнауки России от 5 июля 2017 года N 629.\n\n"]
[]
["Учебные предметы, классы","Авторы,название учебника","Издательство","Год издания","ФП (приказ МО И Н РФ № позиции)","Дополнения"]
[null,"ФИЛОЛОГИЯ"]
["Русский язык "]
[1,"Канакина В.П. Русский  язык","Просвещение",2011,"1.1.1.1.4.2. Приказ МО и Н РФ №253 от 31.03.2014 г"]
[2,"Канакина В.П. Русский  язк","Просвещение",2012.16,"1.1.1.2.4.1 Приказ МО и Н РФ №253 от 31.03.2014 г"]
[3,"Канакина В.П. Русский  язык","Просвещение",2013.17,"1.1.1.1.4.4 Приказ МО и Н РФ №253 от 31.03.2014 г"]
[4,"Канакина В.П. Русский  язык","Просвещение",2014.18,"1.1.1.1.4.5 Приказ МО и Н РФ №253 от 31.03.2014 г"]
[]
["                Литературное чтение"]
[1,"Горецкий В.П. Азбука","Просвещение",2011,"1.1.1.1.4.1. Приказ МО и Н РФ №253 от 31.03.2014 г"]
[1,"Климанова Л.Ф. Литературное  чтение","Просвещение",2011,"1.1.1.2.4.1 Приказ МО и Н РФ №253 от 31.03.2014 г"]
[2,"Климанова Л.Ф. Литературное  чтение","Просвещение",2012,"1.1.1.2.4.2 Приказ МО и Н РФ №253 от 31.03.2014 г"]
[3,"Климанова Л.Ф. Литературное  чтение","Просвещение",2013,"1.1.1.2.4.3 Приказ МО и Н РФ №253 от 31.03.2014 г"]
[4,"Климанова Л.Ф. Литературное  чтение","Просвещение",2014.18,"1.1.1.2.4.4 Приказ МО и Н РФ №253 от 31.03.2014 г"]
[null,"Родной язык и литературное чтение"]
[1,"Хайдарова Р.З  Татарский  язык","Татармультфильм",2012,"3.2.1.1.7.1 Приказ МО и Н РФ №253 от 31.03.2014 г"]
[2,"Хайдарова Р.З  Татарский  язык","Татармультфильм",2013,"3.2.1.1.7.2 Приказ МО и Н РФ №253 от 31.03.2014 г"]
[3,"Хайдарова Р.З  Татарский  язык","Татармультфильм",2013,"3.2.1.1.7.3 Приказ МО и Н РФ №253 от 31.03.2014 г"]
[4,"Хайдарова Р.З  Татарский  язык","Татармультфильм",2014,"3.2.1.1.7.4 Приказ МО и Н РФ №253 от 31.03.2014 г"]
[1,"Гарифуллина Ф.Ш., Миясарова И.Х. Алифба.",{"$f":"[1]Лист1!C209","v":"Магариф-Вакыт"},{"$f":"[1]Лист1!D209","v":2014},"3.1.1.1.4.1 Приказ МО и Н РФ №253 от 31.03.2014 г"]
[1,{"$f":"[1]Лист1!B209","v":"Гарифуллина Ф.Ш., Миясарова И.Х. Эдебият."},{"$f":"C37","v":"Магариф-Вакыт"},2014,"3.1.1.2.1.1.Приказ МО и Н РФ №253 от 31.03.2014 г"]
[3,{"$f":"[1]Лист1!B210","v":"Хасанов  Ф.Ф, Сафиуллина Г.М. Эдебият."},"Магариф-Вакыт",2014,"3.1.1.2.1.1.Приказ МО и Н РФ №253 от 31.03.2014 г"]
[1,{"$f":"B41","v":"Харисов Ф.Ф.  Татар теле."},"ТКИ",2014,"3.1.1.1.6.1 Приказ МО и Н РФ №253 от 31.03.2014 г"]
[3,"Харисов Ф.Ф.  Татар теле.","ТКИ",2014,"3.1.1.1.6.3Приказ МО и Н РФ №253 от 31.03.2014 г"]
[null,"Иностранный язык"]
[{"$f":"[2]Лист1!A133","v":2},{"$f":"[2]Лист1!B133","v":"Афанасьева О.В. Английский язык"},{"$f":"[2]Лист1!C133","v":"Дрофа"},{"$f":"[2]Лист1!D133","v":2015},{"$f":"[2]Лист1!E133","v":"1.1.1.3.1.1 Приказ МО и Н РФ №253 от 31.03.2014г"}]
[{"$f":"[2]Лист1!A134","v":3},{"$f":"[2]Лист1!B134","v":"Афанасьева О.В. Английский язык"},{"$f":"[2]Лист1!C134","v":"Дрофа"},{"$f":"[2]Лист1!D134","v":2016},{"$f":"[2]Лист1!E134","v":"1.1.1.3.1.2 Приказ МО и Н РФ №253 от 31.03.2014 г "}]
[{"$f":"[2]Лист1!A135","v":4},{"$f":"[2]Лист1!B135","v":"Афанасьева О.В. Английский язык"},{"$f":"[2]Лист1!C135","v":"Дрофа"},{"$f":"[2]Лист1!D135","v":2017},{"$f":"[2]Лист1!E135","v":"1.1.1.3.1.3 Приказ МОиН РФ №253 от 31.03.2014 "}]
["Математика и информатика. Математика"]
[1,"Моро М.И.  Математика","Просвещение",2011,"1.1.2.1.8.1 Приказ МО и Н РФ 253 от 31.03.2014 г"]
[2,"Моро М.И.  Математика","Просвещение",2012.16,"1.1.2.1.8.2 Приказ МО и Н РФ 253 от 31.03.2014 г"]
[3,"Моро М.И.  Математика","Просвещение",2013.17,"1.1.2.1.8.3 Приказ МО и Н РФ 253 от 31.03.2014 г"]
[4,"Моро М.И.  Математика","Просвещение",2014.18,"1.1.2.1.8.4 Приказ МО и Н РФ 253 от 31.03.2014 г"]
[null,"Обществознание  и естествознание. Окружающий мир"]
[1,"Плешаков А.А.   Окружающий  мир","Просвещение",2011,"1.1.3.1.3.1  Приказ МО и Н РФ  №253 от 31.03.2014 г"]
[2,"Плешаков А.А.   Окружающий  мир","Просвещение",2012.16,"1.1.3.1.3.2  Приказ МО и Н РФ  №253 от 31.03.2014 г"]
[3,"Плешаков А.А.   Окружающий  мир","Просвещение",2013.17,"1.1.3.1.3.3  Приказ МО и Н РФ  №253 от 31.03.2014 г"]
[4,"Плешаков А.А.   Окружающий  мир","Просвещение",2014.18,"1.1.3.1.3.4  Приказ МО и Н РФ  №253 от 31.03.2014 г"]
[null,"Основы религиозных культур и светской этики"]
[4,"Сахаров А.В.    Основы дух.  нравстаен.","Русское  слово",2011,"1.1.4.1.6.1Приказ МО и Н РФ  №253 от 31.03.2014 г"]
[null,"Искусство"]
[null,"Музыка"]
[1,"Критская Е.Д.  Музыка","Просвещение",2011,"1.1.5.2.5.1Приказ МО и Н РФ №253 от 32.03.2014 г"]
[2,"Критская Е.Д.   Музыка","Просвещение",2011,"1.1.5.2.5.2Приказ МО и Н РФ №253 от 32.03.2014 г"]
[3,"Критская Е.Д .  Музыка","Просвещение",2013,"1.1.5.2.5.3Приказ МО и Н РФ №253 от 32.03.2014 г"]
[4,"Критская Е.Д.   Музыка","Просвещение",2014,"1.1.5.2.5.4Приказ МО и Н РФ №253 от 32.03.2014 г"]
[null,"Изобразительное искусство"]
[1,"Неменский  Е.Д. ИЗО","Просвещение",2011,"1.1.5.1.6.1Приказ МО и Н РФ №253 от 32.03.2014 г"]
[2,"Неменский  Е.Д. ИЗО","Просвещение",2012,"1.1.5.1.6.2 Приказ МО и Н РФ №253 от 32.03.2014 г"]
[3,"Неменский  Е.Д. ИЗО","Просвещение",2013,"1.1.5.1.6.3Приказ МО и Н РФ №253 от 32.03.2014 г"]
[4,"Неменский  Е.Д. ИЗО","Просвещение",2014,"1.1.5.1.6.4Приказ МО и Н РФ №253 от 32.03.2014 г"]
[null,"Технология"]
[null,"Роговцева Н.И  Технология","Просвещение",2010,"1.1.6.1.9.1Приказ МО и Н РФ №253 от 32.03.2014 г"]
[null,"Роговцева Н.И. Технология","Просвещение",2010,"1.1.6.1.9.2Приказ МО и Н РФ №253 от 32.03.2014 г"]
[null,"Роговцева  Н.И.. Технология","Просвещение",2013,"1.1.6.1.9.3Приказ МО и Н РФ №253 от 32.03.2014 г"]
[null,"Роговцева Н.И  Технология","Просвещение",2014,"1.1.6.1.9.4 Приказ МО и Н РФ №253 от 32.03.2014 г"]
[null,"Физическая культура"]
[{"$f":"[2]Лист1!A180","v":1},{"$f":"[2]Лист1!B180","v":"Лях  В.И. Физическая  культура 1-4 кл."},{"$f":"[2]Лист1!C180","v":"Просвещение"},{"$f":"[2]Лист1!D180","v":2012},{"$f":"[2]Лист1!E180","v":"1.1.7.1.3.1 Приказ МО и Н РФ №253 от 31.03.2014 г"}]
[{"$f":"[2]Лист1!A181","v":2},{"$f":"[2]Лист1!B181","v":"Лях  В.И. Физическая  культура"},{"$f":"[2]Лист1!C181","v":"Просвещение"},{"$f":"[2]Лист1!D181","v":2012},{"$f":"[2]Лист1!E181","v":"1.1.7.1.3.1 Приказ МО и Н РФ №253 от 31.03.2014 г"}]
[{"$f":"[2]Лист1!A182","v":3},{"$f":"[2]Лист1!B182","v":"Лях  В.И.  Физическая  культура"},{"$f":"[2]Лист1!C182","v":"Просвещение"},{"$f":"[2]Лист1!D182","v":2011},{"$f":"[2]Лист1!E182","v":"1.1.7.1.3.1 Приказ МО и Н РФ №253 от 31.03.2014 г"}]
[{"$f":"[2]Лист1!A183","v":4},{"$f":"[2]Лист1!B183","v":"Лях  В.И.Физическая  культура"},{"$f":"[2]Лист1!C183","v":"Просвещение"},{"$f":"[2]Лист1!D183","v":2011},{"$f":"[2]Лист1!E183","v":"1.1.7.1.3.1 Приказ МО и Н РФ №253 от 31.03.2014 г"}]
[null,"Основное общее образование. Филология"]
[null,"Русский язык"]
[{"$f":"[2]Лист1!A24","v":5},{"$f":"[2]Лист1!B24","v":"Ладыженская Т.А.  Русский  язык"},{"$f":"[2]Лист1!C24","v":"Просвещение"},{"$f":"[2]Лист1!D24","v":2015},{"$f":"[2]Лист1!E24","v":"1.2.1.1.4.1 Приказ МО и Н РФ №253 от 31.03.2014 г"}]
[{"$f":"[2]Лист1!A25","v":6},{"$f":"[2]Лист1!B25","v":"Баранов  М.Т. Русский  язык"},{"$f":"[2]Лист1!C25","v":"Просвещение"},{"$f":"[2]Лист1!D25","v":2016},{"$f":"[2]Лист1!E25","v":"1.2.1.1.4.2 Приказ МО и Н РФ №253 от31.03 2014 г"}]
[{"$f":"[2]Лист1!A26","v":7},{"$f":"[2]Лист1!B26","v":"Баранов  М.Т. Русский  язык"},{"$f":"[2]Лист1!C26","v":"Просвещение"},{"$f":"[2]Лист1!D26","v":2017},{"$f":"[2]Лист1!E26","v":"1.2.1.1.4.3 Приказ МОиН РФ №253 от 31.03.2014 г"}]
[{"$f":"[2]Лист1!A27","v":8},{"$f":"[2]Лист1!B27","v":"Тростенцова Л.А. Ладыженская Т.А. Дейкина А.Д. и др. Русский язык "},{"$f":"[2]Лист1!C27","v":"Просвещение"},{"$f":"[2]Лист1!D27","v":2018},{"$f":"[2]Лист1!E27","v":"1.2.1.1.4.4 Приказ МОиН РФ №253 от 31.03.201 г"}]
[{"$f":"[2]Лист1!A28","v":9},{"$f":"[2]Лист1!B28","v":"Тростенцова Л.А.  Русский  язык"},{"$f":"[2]Лист1!C28","v":"Просвещение"},{"$f":"[2]Лист1!D28","v":2013},{"$f":"[2]Лист1!E28","v":"1.2.1.1.4.5 Приказ МОиН РФ №253 от 31.03.2014 г"}]
[null,"Литература"]
[{"$f":"[2]Лист1!A37","v":5},{"$f":"[2]Лист1!B37","v":"Коровина В.Я., Журавлёв В.П., Коровин В.И. Литература. В 2-х частях. "},{"$f":"[2]Лист1!C37","v":"Просвещение"},{"$f":"[2]Лист1!D37","v":2015},{"$f":"[2]Лист1!E37","v":"1.2.1.2.1.1. Приказ №253 от 31.03.2014 г "}]
[{"$f":"[2]Лист1!A38","v":6},{"$f":"[2]Лист1!B38","v":"Коровина В.Я., Журавлёв В.П. Литература. В 2-х частях"},{"$f":"[2]Лист1!C38","v":"Просвещение"},{"$f":"[2]Лист1!D38","v":2016},{"$f":"[2]Лист1!E38","v":" 1.2.1.2.1.2. Приказ МО и Н РФ №253 от 31.03 2014 г"}]
[{"$f":"[2]Лист1!A39","v":7},{"$f":"[2]Лист1!B39","v":"Коровина В.Я., Журавлёв В.П., Коровин В.И. Литература. В 2-х частях"},{"$f":"[2]Лист1!C39","v":"Просвещение"},{"$f":"[2]Лист1!D39","v":2017},{"$f":"[2]Лист1!E39","v":"1.2.1.2.1.3 Приказ МОиН РФ №253 от 31.03.2014 г"}]
[{"$f":"[2]Лист1!A40","v":8},{"$f":"[2]Лист1!B40","v":"Коровина В.Я., Журавлёв В.П., Коровин В.И. Литература. В 2-х частях"},{"$f":"[2]Лист1!C40","v":"Русское  слово"},{"$f":"[2]Лист1!D40","v":2018},{"$f":"[2]Лист1!E40","v":"1.2.1.2.1.4  Приказ МО и Н РФ №253 от 31.03.2014 г"}]
[{"$f":"[2]Лист1!A41","v":9},{"$f":"[2]Лист1!B41","v":"Зинин  С.А.   Литература"},{"$f":"[2]Лист1!C41","v":"Русское  слово"},{"$f":"[2]Лист1!D41","v":2011},{"$f":"[2]Лист1!E41","v":"1.2.1.2.4.5 Приказ МО и Н РФ №253 от 31.03.2014 г"}]
[null,"Родной язык и литература"]
[5,"Хайдарова Р.З  Татарский  язык","Татармультфильм",2014,"3.2.1.1.7.5 Приказ МО и Н РФ №253 от 31.03.2014 г"]
[6,"Хайдарова Р.З  Татарский  язык","Татармультфильм",2014,"3.2.1.1.7.6 Приказ МО и Н РФ №253 от 31.03.2014 г"]
[7,"Хайдарова Р.З  Татарский  язык","Татармультфильм",2014,"3.2.1.1.7.7 Приказ МО и Н РФ №253 от 31.03.2014 г"]
[8,"Хайдарова Р.З  Татарский  язык","Татармультфильм",2015,"3.2.1.1.7.8 Приказ МО и Н РФ №253 от 31.03.2014 г"]
[9,"Хайдарова Р.З  Татарский  язык","Магариф",2015,"3.2.1.1.2.5 Приказ МО и Н РФ №253 от 31.03.2014 г"]
[{"$f":"[1]Лист1!A205","v":5},{"$f":"[1]Лист1!B205","v":"Мотыгуллина  А.Р. Ханнанова Р.Г. Эдебият. "},{"$f":"$C$99","v":"Магариф-Вакыт"},{"$f":"[1]Лист1!D205","v":2014},{"$f":"[1]Лист1!E205","v":" 3.2.1.2.3.1Приказ МО и Н РФ №253 от 31.03.2014 г"}]
[{"$f":"[1]Лист1!A206","v":6},{"$f":"[1]Лист1!B206","v":"Мотыгуллина  А.Р. Ханнанова Р.Г. Эдебият."},{"$f":"[1]Лист1!C206","v":"Магариф-Вакыт"},{"$f":"[1]Лист1!D206","v":2014},{"$f":"[1]Лист1!E206","v":" 3.2.1.2.3.2Приказ МО и Н РФ №253 от 31.03.2014 г"}]
[{"$f":"[1]Лист1!A207","v":7},{"$f":"[1]Лист1!B207","v":"Мотыгуллина  А.Р. Ханнанова Р.Г. Эдебият."},{"$f":"[1]Лист1!C207","v":"Магариф-Вакыт"},{"$f":"[1]Лист1!D207","v":2014},{"$f":"[1]Лист1!E207","v":" 3.2.1.2.3.3Приказ МО и Н РФ №253 от 31.03.2014 г"}]
[8,{"$f":"$B$100","v":"Мотыгуллина  А.Р. Ханнанова Р.Г. Эдебият."},"Магариф-Вакыт",2015," 3.2.1.2.3.4Приказ МО и Н РФ №253 от 31.03.2014 г"]
[6,"Сагдиева Р.К., Гарапшина Р.М., Хайруллина Г.И.Татар теле.","Магариф -Вакыт",2015,"32.1.1.3.2 Приказ МО и Н РФ  №253 от 31.03.2014"]
[7,"Сагдиева Р.К., Гарапшина Р.М., Хайруллина Г.И.Татар теле.",{"$f":"C102","v":"Магариф -Вакыт"},2015,"3.2.1.1.3.3 Приказ МО и Н РФ  №253 от 31.03.2014"]
[9,"Сагдиева Р.К., Гарапшина Р.М., Хайруллина Г.И.Татар теле.",{"$f":"C102","v":"Магариф -Вакыт"},2015,"3.2.1.1.3.5 Приказ МО и Н РФ  №253 от 31.03.2014"]
[5,"Хасанов  Ф.Ф, Сафиуллина Г.М. Эдебият.","Магариф-Вакыт",2015,"3.2.1.2.2.1 Приказ МО и Н РФ №253 от 31.03.2014 г"]
[6,"Хасанов  Ф.Ф, Сафиуллина Г.М. Эдебият.","Магариф-Вакыт",2014,"3.2.1.2.2.2 Приказ МО и Н РФ №253 от 31.03.2014 г"]
[7,"Хасанова Ф.Ф., Сафиуллина Г.М.Эдебият).","Магариф-Вакыт",2015,"3.2.1.2.2.3 Приказ МО и Н РФ №253 от 31.03.2014 г"]
[9,{"$f":"$B$105","v":"Хасанов  Ф.Ф, Сафиуллина Г.М. Эдебият."},"Магариф-Вакыт",2015,"3.2.1.2.2.5 Приказ МО и Н РФ №253 от 31.03.2014 г"]
[null,"Иностранный язык. "]
[null,"Английский язык"]
[5,"Афанасьева О.В. Английский язык","Дрофа",2015,"1.2.3.3.12.2 Приказ МОиН РФ №253 от 31.03.2014 г"]
[6,"Афанасьева О.В. Английский язык","Дрофа",2016,"1.2.1.3.2.2 Приказ МО и Н РФ №253 от 31.03.2014 г"]
[7,"Афанасьева О.В. Английский язык","Дрофа",2017,"1.2.1.3.1.3  Приказ МО и Н РФ №253 от 31.03.2014 г "]
[8,{"$f":"$B$113","v":"Афанасьева О.В. Английский язык"},"Титул",2018,"1.2.1.3.1.4  Приказ МО и Н РФ №253 от 31.03.2014 г "]
[9,"Биболетова М.З. Английский  язык","Титул",2012,"Приказ МО И Н РФ № 1067  от 19.12.2012 г. г. № 1523 не включен в приказ МО И Н РФ № 253 от 31.03.2014 .."]
[null,"Математика и информатика"]
[null,"Математика"]
[{"$f":"[2]Лист1!A49","v":5},"Никольский С.М. Математика ","Просвещение",{"$f":"[2]Лист1!D49","v":2015},"1.2.3.1.12.2.МО и Н РФ №253 от 31.03.2014"]
[{"$f":"[2]Лист1!A50","v":6},{"$f":"[2]Лист1!B50","v":"Виленкин Н.Я. Математика"},{"$f":"[2]Лист1!C50","v":"Мнемозина"},2006,"1.2.3.1.3.2 Приказ МО и Н РФ 253 от 31.03.2014 г"]
[null,"Алгебра"]
[7,"Макарычев Ю.Н.  Алгебра","Просвещение",2017,"1.2.3.2.5.1 Приказ МОиН РФ №253 от 31.03.2014 г"]
[8,"Макарычев Ю.Н.  Алгебра","Просвещение",2018,"1.2.3.2.5.2 Приказ МОиН РФ №253 от 31.03.2014 г"]
[9,"Макарычев Ю.Н.  Алгебра","Просвещение",2013,"1.2.3.2.5.3 Приказ МОиН РФ №253 от 31.03.2014 г"]
[null,"Геометрия"]
[7,"Атанасян Л.С.  Геометрия  7-9 кл.","Просвещение",2017,"1.2.3.3.2.1 Приказ МОиН РФ №253 от 31.03.2014 г"]
[8,"Атанасян Л.С.  Геометрия  7-9 кл.","Просвещение",2014,"1.2.3.3.2.1  Приказ МО и Н РФ  №253 от 31.03.2014 г"]
[9,"Атанасян Л.С.  Геометрия  7-9 кл.","Просвещение",2014,"1.2.3.3.2.1  Приказ МО и Н РФ  №253 от 31.03.2014 г"]
[null,"Информатика"]
[7,"Семакин И.Г. Информатика","БИНОМ",2017,"1.2.3.4.3.1 Приказ МОиН РФ №253 от 31.03.2014 г"]
[8,"Семакин И.Г. Информатика","БИНОМ",2018,"1.2.3.4.3.2  Приказ МОиН РФ №253 от 31.03.2014 г"]
[9,"Семакин И.Г. Информатика","БИНОМ",2011,"1.2.3.4.3.3  Приказ МОиН РФ №253 от 31.03.2014 г"]
[null,"Общественно-научные предметы"]
[null,"История России"]
[6,"Аресеньев Н.М. Данилов А.А. Под ред. Торкунова А.В.","Русское  слово",2016,"1.2.2.1.7.1 Приказ МО и Н РФ №576 от 08.06.2015 г"]
[7,"Аресеньев Н.М. Данилов А.А. Под ред. Торкунова А.В.","Русское  слово",2017,"1.2.2.2.7.2 Приказ МО и Н РФ №№576 от 08.06.2015 г"]
[8,{"$f":"$B$135","v":"Аресеньев Н.М. Данилов А.А. Под ред. Торкунова А.В."},"Русское  слово",2018,"1.2.2.2.7.3 Приказ МО и Н РФ №576 от 08.06.2015 г."]
[9,"Данилов А.А. История России","Русское  слово",2012,"1.2.2.1.2.4 Приказ МО и Н РФ №253 от 31.03.2014 г"]
[]
[null,"Всеобщая история"]
[5,"Вигасин А.А. История  древнего  мира","Просвещение",2014,"1.2.2.2.1.1Приказ МО и Н РФ №253 от 31.03.2014 г"]
[6,"Агибалов У.В.  История  средних  веков","Просвещение",2016,"1.2.2.2.1.2 Приказ МО и Н РФ №253 от 31.03.2014 г"]
[7,"Юдовская А.Я.  Всеобщая  история","Просвещение",2017,"1.2.2.2.1.3Приказ МО и Н РФ №253 от 31.03.2014 г"]
[8,{"$f":"$B$142","v":"Юдовская А.Я.  Всеобщая  история"},"Просвещение",2018,"1.2.2.2.1.4Приказ МО и Н РФ №253 от 31.03.2014 г"]
[9,"Загладин  Н.В.  Всеобщая  история","Русское  слово",2008,"1.2.2.2.4.5 Приказ МО и Н РФ №253 от 31.03.2014 г"]
[null,"Обществознание"]
[5," Под ред. Боголюбова Л.Н., Ивановой Л.Ф. Обществознание","Русское  слово",2015,"1.2.2.3.1.1 Приказ МО и Н РФ  №253 от 31.03.2014 г "]
[6," Под ред. Боголюбова Л.Н., Ивановой Л.Ф. Обществознание","Русское  слово",2016,"1.2.2.3.1.2 Приказ МО и Н РФ №253 от31.03 2014 г"]
[7," Под ред. Боголюбова Л.Н., Ивановой Л.Ф. Обществознание","Русское  слово",2017,"1.2.2.3.1.3 Приказ МОиН РФ №253 от 31.03.2014 г"]
[8," Под ред. Боголюбова Л.Н., Ивановой Л.Ф. Обществознание","Русское  слово",2018,"1.2.2.3.1.4 Приказ МОиН РФ №253 от 31.03.2014 г"]
[9,"Кравченко  А.И.  Обществознание","Русское  слово",2012,"Приказ МО И Н РФ № 1067  от 19.12.2012 г. г. "]
[null,"География"]
[5,"Дронов В.П., Савельева Л.Е. / Под ред. Дронова В.П.География 5-6 кл.","Дрофа",2015,"1.2.2.4.4.1. Приказ МО и Н РФ  №253 от 31.03.2014 г"]
[6,"Дронов В.П., Савельева Л.Е. / Под ред. Дронова В.П.География 5-6 кл.","Дрофа",2016,"1.2.2.4.4.1. ПриказМО и Н РФ  №253 от 31.03.2014 г"]
[7,"Под ред. Дронова В.П.География 7 кл.","Дрофа",2017,"1.2.2.4.4.2  Приказ МО и Н РФ №253 от 31.03.2014 г"]
[8,"Дронов В.П. Савельева Л.Е.География","Дрофа",2018,"1.2.2.4.7.3 Приказ МО и Н РФ №253 от 31.03.2014 г"]
[9,"Дронов  В.П.  География","Дрофа",2014,"1.2.2.4.4.4  Приказ МО и Н РФ №253 от 31.03.2014 г"]
[null,"Естественно-научные предметы"]
[null,"Физика"]
[7,"Перышкин А.В.  Физика","Просвещение",2017,"1.2.4.1.6.1  Приказ МО и Н РФ  №253 от 31.03.2014 г"]
[8,"Перышкин А.В.  Физика","Просвещение",2018,"1.2.4.1.6.2  Приказ МО и Н РФ  №253 от 31.03.2014 г"]
[9,"Перышкин А.В.  Физика","Просвещение",2009,"1.2.4.1.6.3  Приказ МО и Н РФ  №253 от 31.03.2014 г"]
[null,"Химия"]
[8,"Габриелян О.С.  Химия","Дрофа",2018,"1.2.4.3.1.2Приказ МОиН РФ №253 от 31.03.2014 г"]
[9,"Габриелян О.С.  Химия","Дрофа",2008,"1.2.4.3.1.3Приказ МОиН РФ №253 от 31.03.2014 г"]
[null,"Биология"]
[{"$f":"[2]Лист1!A74","v":5},{"$f":"[2]Лист1!B74","v":"Пасечник В В.Биология "},{"$f":"[2]Лист1!C74","v":"Дрофа"},{"$f":"[2]Лист1!D74","v":2011},{"$f":"[2]Лист1!E74","v":"1.2.4.2.2.1 Приказ №253 от 31.03.2014 г  "}]
[{"$f":"[2]Лист1!A75","v":6},{"$f":"[2]Лист1!B75","v":"Пасечник В В.Биология "},{"$f":"[2]Лист1!C75","v":"Дрофа"},{"$f":"[2]Лист1!D75","v":2016},{"$f":"[2]Лист1!E75","v":"1.2.4.2.2.2Приказ МО и Н РФ №253 от 31.03.2014 г"}]
[{"$f":"[2]Лист1!A76","v":7},{"$f":"[2]Лист1!B76","v":"Латюшин В В.Биология "},{"$f":"[2]Лист1!C76","v":"Дрофа"},{"$f":"[2]Лист1!D76","v":2017},{"$f":"[2]Лист1!E76","v":"1.2.4.2.2.3 Приказ МОиН РФ №253 от 31.03.2014 г"}]
[{"$f":"[2]Лист1!A77","v":8},{"$f":"[2]Лист1!B77","v":"Колесов Д.В. Марш Р.Д. Биология"},{"$f":"[2]Лист1!C77","v":"Дрофа"},{"$f":"[2]Лист1!D77","v":2018},{"$f":"[2]Лист1!E77","v":"1.2.4.2.2.4 Приказ МОиН РФ №253 от 31.03.2014 г"}]
[{"$f":"[2]Лист1!A78","v":9},{"$f":"[2]Лист1!B78","v":"Мамонтов  С.Г.  Биология"},{"$f":"[2]Лист1!C78","v":"Дрофа"},{"$f":"[2]Лист1!D78","v":2013},{"$f":"[2]Лист1!E78","v":"1.2.4.2.9.5 Приказ МОиН РФ №253 от 31.03.2014 г"}]
[null,"Икусство"]
[null,"Музыка"]
[5,"Критская Е.Д .  Музыка","Просвещение",2015,"1.2.5.2.3.1  Приказ МО и Н РФ №253 от 32.03.2014 г"]
[6,"Критская Е.Д .  Музыка","Просвещение",2016,"1.2.5.2.3.2 Приказ МО и Н РФ №253 от 32.03.2014 г"]
[7,"Критская Е.Д.   Музыка","Просвещение",2017,"1.2.5.2.3.3 Приказ МО и Н РФ №253 от 32.03.2014 г"]
[null,"Изобразительное искусство"]
[5,"Неменский  Е.Д. ИЗО","Просвещение",2015,"1.2.5.1.1.1 Приказ МО и Н РФ №253 от 32.03.2014 г"]
[6,"Неменский  Е.Д. ИЗО","Просвещение",2016,"1.2.5.1.1.2 Приказ МО и Н РФ №253 от 32.03.2014 г"]
[7,"Неменский  Е.Д. ИЗО","Просвещение",2017,"1.2.5.1.1.3 Приказ МО и Н РФ №253 от 32.03.2014 г"]
[8,"Неменский  Е.Д. ИЗО","Просвещение",2015,"1.2.5.1.1.4 Приказ МО и Н РФ №253 от 32.03.2014 г"]
[9,"Неменский  Е.Д. ИЗО","Просвещение",2015,"Приказ МО и Н РФ №253 от 32.03.2014 г"]
[]
[null,"Технология"]
[5,"Синицина Н.В. Симоненко В.Д.Технология ведения дома","Вента-Граф",2015,"1.2.6.1.6.1Приказ МО и Н РФ №253 от 31.03.2014 г"]
[5,"Тищенко А.Т. Симоненко  В.Д  Индустр. Технол.","Вента-Граф",2015,"1.2.6.1.6.2 Приказ МО и Н РФ №253 от 32.03.2014 г"]
[6,"Синицина Н.В. Симоненко В.Д.Технология ведения дома","Вента-Граф",2016,"1.2.6.1.6.3 Приказ МО и Н РФ №253 от 32.03.2014 г"]
[6,"Тищенко А.Т. Симоненко  В.Д  Индустр. Технол.","Вента-Граф",2016,"1.2.6.1.6.4  Приказ МО и Н РФ №253 от 32.03.2014 г"]
[7,"Синицина Н.В. Симоненко В.Д.Технология ведения дома","Вента-Граф",2017,"1.2.6.1.6.6 Приказ МО и Н РФ №253 от 32.03.2014 г"]
[7,"Тищенко А.Т. Симоненко  В.Д  Индустр. Технол.","Вента-Граф",2017,"1.2.6.1.6.5 Приказ МО и Н РФ №253 от 32.03.2014 г"]
[8,"Симоненко В.Д. Технология","Вента-Граф",2010,"1.2.6.1.6.7 Приказ МО и Н РФ №253 от 32.03.2014 г"]
[]
[null,"Физическая культура и ОБЖ"]
[8,"Смирнов  А.Т.  Основы безоп.  Жизни","Просвещение",2010,"1.2.7.2.3.4  Приказ МО и Н РФ №253 от 31.03.2014г"]
["5,6,7","Лях В.И. Физическая  культура","Просвещение",2015,"1.2.7.1.3.2  Приказ МО и Н РФ №253 от 31.03.2014 г"]
[8.9,"Лях  В.И. Физическая  культура","Просвещение",2011,"1.2.7.1.3.3 Приказ МО и Н РФ №253 от 31.03.2014 г"]
[]
[]
[null,"Русский язык"]
[{"$f":"[2]Лист1!A29","v":10},{"$f":"[2]Лист1!B29","v":"Гольцова Н.Г. Русский  язык 10-11 кл"},{"$f":"[2]Лист1!C29","v":"Просвещение"},2015,{"$f":"[2]Лист1!E29","v":"1.3.1.1.3.1.Приказ МО и Н РФ №253 от 31.03.2014 г"}]
[{"$f":"[2]Лист1!A30","v":11},{"$f":"[2]Лист1!B30","v":"Гольцова Н.Г. Русский  язык 10-11 кл"},{"$f":"[2]Лист1!C30","v":"Просвещение"},2015,{"$f":"[2]Лист1!E30","v":"1.3.1.1.3.1.Приказ МО и Н РФ №253 от 31.03.2014 г"}]
[null,"Литература"]
[{"$f":"[2]Лист1!A42","v":10},{"$f":"[2]Лист1!B42","v":"Сахаров В.И. Литература"},{"$f":"[2]Лист1!C42","v":"Русское  слово"},{"$f":"[2]Лист1!D42","v":2011},{"$f":"[2]Лист1!E42","v":"1.3.1.1.3.2 Приказ МО и Н РФ 253 от 31.03.2014 г"}]
[{"$f":"[2]Лист1!A43","v":11},{"$f":"[2]Лист1!B43","v":"Чалмаев  В.А. Литература"},{"$f":"[2]Лист1!C43","v":"Русское  слово"},{"$f":"[2]Лист1!D43","v":2010},{"$f":"[2]Лист1!E43","v":"1 3.1.1.3.3.Приказ  МО и Н РФ 253 от 31.03.2014 г"}]
[]
[null,"Английский язык"]
[10,"Афанасьева О.В. Английский язык","Дрофа",2015,"1.3.2.1.1.1 Приказ МО и Н РФ №253 от 31.03.2014г"]
[11,"Афанасьева О.Английский язык","Дрофа",2015,"1.3.2.1.1.2 Приказ МО и Н РФ №253 от 31.03.2014г"]
[null,"История "]
[{"$f":"[2]Лист1!A91","v":"10*"},"Сахаров А.Н.  История",{"$f":"[2]Лист1!C91","v":"Русское  слово"},2018,"1.3.3.1.6.1 Приказ МО и Н РФ №253 от 31.03.2014г"]
[{"$f":"[2]Лист1!A92","v":"11*"},{"$f":"[2]Лист1!B92","v":"Киселев  А.Ф  История  России"},{"$f":"[2]Лист1!C92","v":"Русское  слово"},{"$f":"[2]Лист1!D92","v":2008},{"$f":"[2]Лист1!E92","v":"1.3.3.1.5.2Приказ МО и Н РФ №379 от 09.12.2008 г"}]
[]
["10*","Сахаров А.Н.  История","Русское  слово",2018,"1.3.3.1.6.1 Приказ МО и Н РФ №253 от 31.03.2014 г"]
["11*","Загладин  Н.В.  Всеобщая  история","Русское  слово",2010,"1.3.3.1.6.2Приказ МО и Н РФ №253 от 31.03.2014 г"]
[null,"Обществознание"]
[10,"Боголюбов ЛН. Обществознание  ","Русское  слово",2018,"1.3.3.3.1.1.Приказ МО и Н РФ №253 от 31.03.2014г"]
[11,"Кравченко  А.И.  Обществознание","Русское  слово",2013,"Приказ МО И Н РФ № 1067  от 19.12.2012 г."]
[]
[null,"Химия"]
[10,"Габриелян О.С.  Химия","Дрофа",2009,"1.3.5.3.1.1Приказ МО и Н РФ №253 от 31.03.2014 г"]
[11,"Габриелян О.С.  Химия","Дрофа",2009,"1.3.5.3.1.2.Приказ МО и Н РФ №253 от 31.03.2014 г"]
[null,"Биология"]
[{"$f":"[2]Лист1!A79","v":10},{"$f":"[2]Лист1!B79","v":"Захаров В.Б. Биология"},{"$f":"[2]Лист1!C79","v":"Дрофа"},{"$f":"[2]Лист1!D79","v":2010},{"$f":"[2]Лист1!E79","v":"1.3.5.5.7.1Приказ МОиН РФ №253 от 31.03.2014 г"}]
[{"$f":"[2]Лист1!A80","v":11},{"$f":"[2]Лист1!B80","v":"Захаров В.Б.  Биология"},{"$f":"[2]Лист1!C80","v":"Дрофа"},{"$f":"[2]Лист1!D80","v":2010},{"$f":"[2]Лист1!E80","v":"1.3.5.5.7.2Приказ МОиН РФ №253 от 31.03.2014 г"}]
[null,"Физическая культура"]
[{"$f":"[2]Лист1!A186","v":10},{"$f":"[2]Лист1!B186","v":"Лях В.И. Физическая  культура"},{"$f":"[2]Лист1!C186","v":"Просвещение"},{"$f":"[2]Лист1!D186","v":2011},{"$f":"[2]Лист1!E186","v":"1.3.6.1.2.1Приказ МО и Н РФ №253 от 31.03.2014 г"}]
[{"$f":"[2]Лист1!A187","v":11},{"$f":"[2]Лист1!B187","v":"Лях В.И. Физическая  культура"},{"$f":"[2]Лист1!C187","v":"Просвещение"},{"$f":"[2]Лист1!D187","v":2011},{"$f":"[2]Лист1!E187","v":"1.3.6.1.2.2 Приказ МО и Н РФ №253 от 31.03.2014 г"}]
[null,"Математика"]
[{"$f":"[2]Лист1!A54","v":10},"Никольский С.М. Алгебра и нач. анал. ",{"$f":"[2]Лист1!C54","v":"Просвещение"},2014,"1.3.4.1.3.2 Приказ МОиН РФ №253 от 31.03.2014 г"]
[{"$f":"[2]Лист1!A55","v":11},{"$f":"[2]Лист1!B55","v":"Мордкович Алгебра и нач.анал. (проф.)"},{"$f":"[2]Лист1!C55","v":"Просвещение"},{"$f":"[2]Лист1!D55","v":2014},{"$f":"[2]Лист1!E55","v":"1.3.4.1.6.2. Приказ МО и Н РФ №253 от 31.03.2014 г"}]
[null,"Геометрия"]
[10,"Атанасян Л.С.  Геометрия  10-11 кл.","Просвещение",2010,"1.3.4.1.2.1Приказ МОиН РФ №253 от 31.03.2014 г"]
[11,"Атанасян  Л.С.  Геометрия  10-11  кл.","Просвещение",2010,"1.3.4.1.2.1Приказ МОиН РФ №253 от 31.03.2014 г"]
[null,"Физика"]
[10,"Мякишев Г.Я.   Физика. Механика","Дрофа",2014,"№ 1.3.5.2.3.1.Приказ МО и Н РФ №253 от 31.03.2014 г"]
[10,"Мякишев Г.Я.   Физика. Термодинамика","Дрофа",2014,"№ 1.3.5.2.3.2Приказ МО и Н РФ №253 от 31.03.2014 г"]
["10-11","Мякишев Г.Я.   Физика. Электродинамика","Дрофа",2014,"№ 1.3.5.2.4.1Приказ МО и Н РФ №253 от 31.03.2014 г"]
[11,"Мякишев Г.Я.   Физика. Оптика","Дрофа",2014,"№ 1.3.5.2.4.3Приказ МО и Н РФ №253 от 31.03.2014 г"]
[11,"Мякишев Г.Я.   Физика. Колебания и волны","Дрофа",2014,"№ 1.3.5.2.4.2Приказ МО и Н РФ №253 от 31.03.2014 г"]
[null,"Родной язык и литература"]
[10,{"$f":"[2]Лист1!B196","v":"Хайдарова Р.З  Татарский  язык"},{"$f":"[2]Лист1!C196","v":"Татармультфильм"},{"$f":"[2]Лист1!D196","v":2008},{"$f":"[2]Лист1!E196","v":"3.2.1.1.7.8 Приказ МО и Н РФ №253 от 31.03.2014 г"}]
[11,{"$f":"[2]Лист1!B197","v":"Хайдарова Р.З  Татарский  язык"},{"$f":"[2]Лист1!C197","v":"Магариф"},{"$f":"[2]Лист1!D197","v":2015},{"$f":"[2]Лист1!E197","v":"3.2.1.1.2.5 Приказ МО и Н РФ №253 от 31.03.2014 г"}]
[null,"Информатика"]
[10,{"$f":"B130","v":"Семакин И.Г. Информатика"},"БИНОМ",2011,"1.3.4.3.2.1Приказ МО и Н РФ №253 от 31.03.2014 г"]
[11,"Семакин И.Г. Информатика","БИНОМ",2011,"1.3.4.3.2.2.Приказ МО и Н РФ №253 от 31.03.2014 г"]
[null,"География"]
[10,"Максаковский  В.П.  География. 10 кл.","Дрофа",2015,"1.3.3.4.51 Приказ МО и Н РФ №253 от 31.03.2014 г"]
[11,"Максаковский  В.П.  География. 10 кл.","Дрофа",2015,"1.3.3.451 Приказ МО и Н РФ №253 от 31.03.2014 г"]
[null,"Астрономия"]
[10,"Чаругин В.М. Астрономия","Просвещение",2017,"2.3.2.5.2.1 Пиказ МО и Н РФ от 20.06 2017"]
[11,{"$f":"$B$249","v":"Чаругин В.М. Астрономия"},{"$f":"C249","v":"Просвещение"},2017,"2.3.2.5.2.1 Пиказ МО и Н РФ от 20.06 2017"]
[null,"ОБЖ"]
[10,"Смирнов  А.Т.  Основы безоп.  Жизни","Просвещение",2013,"1.3.6.3.4.1 Приказ МО и Н РФ №253 от 31.03.2014г"]
[11,"Смирнов  А.Т.  Основы безоп.  Жизни","Просвещение",2014,"1.3.6.3.4.2 Приказ МО и Н РФ №253 от 31.03.2014г"]
{"$rows_empty":7}
["                            Зам. директора   по  УР           Фатхуллина  И.И."]
[]
["                             Библиотекарь                          Иванова  Л.Л"]

{"sheet":"Лист2","index":2,"n_rows":0,"n_cols":0,"rows_kept":0}

{"sheet":"Лист3","index":3,"n_rows":0,"n_cols":0,"rows_kept":0}